BEGIN:VCALENDAR
VERSION:2.0
PRODID:-//Plone.org//NONSGML plone.app.event//EN
X-WR-TIMEZONE:Europe/Zurich
BEGIN:VEVENT
SUMMARY:Kino unter Leuten: Divine Comedy
DTSTART;TZID=Europe/Zurich;VALUE=DATE-TIME:20260427T184000
DTEND;TZID=Europe/Zurich;VALUE=DATE-TIME:20260427T210000
DTSTAMP;VALUE=DATE-TIME:20260424T023821Z
UID:40d0a11d2ea24b59b9d9e101d80096c3@localhost:17090
CATEGORIES:Kultur,Forum
CREATED;VALUE=DATE-TIME:20260423T210503Z
DESCRIPTION: 
LAST-MODIFIED;VALUE=DATE-TIME:20260423T210504Z
LOCATION:Arthouse Piccadilly2\, Zürich
URL:https://www.zhkath.ch/verowa-forum-kantonale-events/kino-unter-leuten-
 divine-comedy
END:VEVENT
BEGIN:VTIMEZONE
TZID:Europe/Zurich
X-LIC-LOCATION:Europe/Zurich
BEGIN:DAYLIGHT
DTSTART;VALUE=DATE-TIME:20260329T030000
TZNAME:CEST
TZOFFSETFROM:+0100
TZOFFSETTO:+0200
END:DAYLIGHT
END:VTIMEZONE
END:VCALENDAR
