BEGIN:VCALENDAR
VERSION:2.0
PRODID:-//Plone.org//NONSGML plone.app.event//EN
X-WR-TIMEZONE:Europe/Zurich
BEGIN:VEVENT
SUMMARY:Frauen-Power | Christentum und Kunst
DTSTART;TZID=Europe/Zurich;VALUE=DATE-TIME:20260519T150000
DTEND;TZID=Europe/Zurich;VALUE=DATE-TIME:20260519T200000
DTSTAMP;VALUE=DATE-TIME:20260421T100154Z
UID:55739c3158ef43638a6aa99e42289346@localhost:17090
CATEGORIES:Bildung,Forum
CREATED;VALUE=DATE-TIME:20260420T210504Z
DESCRIPTION: 
LAST-MODIFIED;VALUE=DATE-TIME:20260420T210504Z
LOCATION:online\, Zürich\, Dornach & Therwil
URL:https://www.zhkath.ch/verowa-forum-kantonale-events/frauen-power-chris
 tentum-und-kunst
END:VEVENT
BEGIN:VTIMEZONE
TZID:Europe/Zurich
X-LIC-LOCATION:Europe/Zurich
BEGIN:DAYLIGHT
DTSTART;VALUE=DATE-TIME:20260329T030000
TZNAME:CEST
TZOFFSETFROM:+0100
TZOFFSETTO:+0200
END:DAYLIGHT
END:VTIMEZONE
END:VCALENDAR
