BEGIN:VCALENDAR
VERSION:2.0
PRODID:-//Plone.org//NONSGML plone.app.event//EN
X-WR-TIMEZONE:Europe/Zurich
BEGIN:VEVENT
SUMMARY:Ein Tag wie in Taizé - Pfingsten 2026 in Baden
DTSTART;TZID=Europe/Zurich;VALUE=DATE-TIME:20260524T120000
DTEND;TZID=Europe/Zurich;VALUE=DATE-TIME:20260525T120000
DTSTAMP;VALUE=DATE-TIME:20260421T024535Z
UID:0d53753f801a45328c0acb3fc5d1f976@localhost:17090
CATEGORIES:Jugend,Gemeinschaft,Forum
CREATED;VALUE=DATE-TIME:20260420T210504Z
DESCRIPTION: 
LAST-MODIFIED;VALUE=DATE-TIME:20260420T210504Z
URL:https://www.zhkath.ch/verowa-forum-kantonale-events/ein-tag-wie-in-tai
 ze-pfingsten-2026-in-baden
END:VEVENT
BEGIN:VTIMEZONE
TZID:Europe/Zurich
X-LIC-LOCATION:Europe/Zurich
BEGIN:DAYLIGHT
DTSTART;VALUE=DATE-TIME:20260329T030000
TZNAME:CEST
TZOFFSETFROM:+0100
TZOFFSETTO:+0200
END:DAYLIGHT
END:VTIMEZONE
END:VCALENDAR
