BEGIN:VCALENDAR
VERSION:2.0
PRODID:-//Plone.org//NONSGML plone.app.event//EN
X-WR-TIMEZONE:Europe/Zurich
BEGIN:VEVENT
SUMMARY:KERNPROZESS Personalrekrutierung
DTSTART;TZID=Europe/Zurich;VALUE=DATE-TIME:20260512T173000
DTEND;TZID=Europe/Zurich;VALUE=DATE-TIME:20260512T193000
DTSTAMP;VALUE=DATE-TIME:20260423T184312Z
UID:bd8111251fbd4896a615501693cc5f63@localhost:17090
CATEGORIES:Personalförderung,Kurs
CONTACT:Tobias Kucera\, kurse@zhkath.ch
CREATED;VALUE=DATE-TIME:20260423T122644Z
DESCRIPTION:Personalrekrutierung von A - Z
LAST-MODIFIED;VALUE=DATE-TIME:20260423T122645Z
LOCATION:Centrum 66 oder online (online Teilnahme im Anmeldeformuar unter 
 Bemerkungen vermerken)
URL:https://www.zhkath.ch/verowa-events/new-event-10
END:VEVENT
BEGIN:VTIMEZONE
TZID:Europe/Zurich
X-LIC-LOCATION:Europe/Zurich
BEGIN:DAYLIGHT
DTSTART;VALUE=DATE-TIME:20260329T030000
TZNAME:CEST
TZOFFSETFROM:+0100
TZOFFSETTO:+0200
END:DAYLIGHT
END:VTIMEZONE
END:VCALENDAR
