BEGIN:VCALENDAR
VERSION:2.0
PRODID:-//Plone.org//NONSGML plone.app.event//EN
X-WR-TIMEZONE:Europe/Zurich
BEGIN:VEVENT
SUMMARY:Kurs 41 - Grundlagen Finanzhaushalt
DTSTART;TZID=Europe/Zurich;VALUE=DATE-TIME:20260310T081500
DTEND;TZID=Europe/Zurich;VALUE=DATE-TIME:20260310T163000
DTSTAMP;VALUE=DATE-TIME:20260422T135055Z
UID:a4f9b6150f654686a91f3132529c5706@localhost:17090
CATEGORIES:Mitglieder der Behörden,Personalförderung,Kurs
CONTACT:Tobias Kucera\, kurse@zhkath.ch
CREATED;VALUE=DATE-TIME:20260208T220011Z
DESCRIPTION:Zielgruppe: Mitglieder der Kirchenpflege und der Rechnungsprü
 fungskommissionen
LAST-MODIFIED;VALUE=DATE-TIME:20260309T220004Z
LOCATION:Centrum 66\, Hirschengraben 66\, 8001 Zürich\, Saal
URL:https://www.zhkath.ch/verowa-events/kurs-41-grundlagen-finanzhaushalt
END:VEVENT
BEGIN:VTIMEZONE
TZID:Europe/Zurich
X-LIC-LOCATION:Europe/Zurich
BEGIN:STANDARD
DTSTART;VALUE=DATE-TIME:20251026T020000
TZNAME:CET
TZOFFSETFROM:+0200
TZOFFSETTO:+0100
END:STANDARD
END:VTIMEZONE
END:VCALENDAR
