BEGIN:VCALENDAR
VERSION:2.0
PRODID:-//Plone.org//NONSGML plone.app.event//EN
X-WR-TIMEZONE:Europe/Zurich
BEGIN:VEVENT
SUMMARY:Kurs 37 - Basiskurs für neu gewählte Mitglieder der Kirchenpfleg
 e
DTSTART;TZID=Europe/Zurich;VALUE=DATE-TIME:20260905T090000
DTEND;TZID=Europe/Zurich;VALUE=DATE-TIME:20260905T120000
DTSTAMP;VALUE=DATE-TIME:20260422T175440Z
UID:41235714fd7847879d45957c520073d2@localhost:17090
CATEGORIES:Mitglieder der Behörden,Personalförderung,Kurs
CONTACT:Tobias Kucera\, kurse@zhkath.ch
CREATED;VALUE=DATE-TIME:20260208T220010Z
DESCRIPTION:Zielgruppe: neu gewählte Mitglieder der Kirchenpflege
LAST-MODIFIED;VALUE=DATE-TIME:20260421T210004Z
LOCATION:Centrum 66\, Hirschengraben 66\, 8001 Zürich\, Saal
URL:https://www.zhkath.ch/verowa-events/kurs-37-basiskurs-fuer-neu-gewaehl
 te-mitglieder-der-kirchenpflege
END:VEVENT
BEGIN:VTIMEZONE
TZID:Europe/Zurich
X-LIC-LOCATION:Europe/Zurich
BEGIN:DAYLIGHT
DTSTART;VALUE=DATE-TIME:20260329T030000
TZNAME:CEST
TZOFFSETFROM:+0100
TZOFFSETTO:+0200
END:DAYLIGHT
END:VTIMEZONE
END:VCALENDAR
