BEGIN:VCALENDAR
VERSION:2.0
PRODID:-//Plone.org//NONSGML plone.app.event//EN
X-WR-TIMEZONE:Europe/Zurich
BEGIN:VEVENT
SUMMARY:Kurs 34 - Datenschutz bei der täglichen Arbeit
DTSTART;TZID=Europe/Zurich;VALUE=DATE-TIME:20260424T103000
DTEND;TZID=Europe/Zurich;VALUE=DATE-TIME:20260424T120000
DTSTAMP;VALUE=DATE-TIME:20260422T121451Z
UID:6d3292be32fd4babbec555fce81e18b9@localhost:17090
CATEGORIES:Informatik,Personalförderung,Kurs
CONTACT:Tobias Kucera\, kurse@zhkath.ch
CREATED;VALUE=DATE-TIME:20260208T220009Z
DESCRIPTION:Zielgruppe: Behördenmitglieder\, an Datenschutz interessierte
  Personen
LAST-MODIFIED;VALUE=DATE-TIME:20260421T210003Z
LOCATION:Centrum 66\, Hirschengraben 66\, 8001 Zürich\, Saal
URL:https://www.zhkath.ch/verowa-events/kurs-34-datenschutz-bei-der-taegli
 chen-arbeit
END:VEVENT
BEGIN:VTIMEZONE
TZID:Europe/Zurich
X-LIC-LOCATION:Europe/Zurich
BEGIN:DAYLIGHT
DTSTART;VALUE=DATE-TIME:20260329T030000
TZNAME:CEST
TZOFFSETFROM:+0100
TZOFFSETTO:+0200
END:DAYLIGHT
END:VTIMEZONE
END:VCALENDAR
