BEGIN:VCALENDAR
VERSION:2.0
PRODID:-//Plone.org//NONSGML plone.app.event//EN
X-WR-TIMEZONE:Europe/Zurich
BEGIN:VEVENT
SUMMARY:Kurs 31 - Microsoft Word praxisnah anwenden
DTSTART;TZID=Europe/Zurich;VALUE=DATE-TIME:20260922T090000
DTEND;TZID=Europe/Zurich;VALUE=DATE-TIME:20260922T170000
DTSTAMP;VALUE=DATE-TIME:20260422T135920Z
UID:f7df2164257b45a39397246c6a8ee3b6@localhost:17090
CATEGORIES:Informatik,Personalförderung,Kurs
CONTACT:Tobias Kucera\, kurse@zhkath.ch
CREATED;VALUE=DATE-TIME:20260208T220008Z
DESCRIPTION:Zielgruppe: Dieser Kurs richtet sich an Personen\, welche Micr
 osoft Word 2021 / M365 grundlegend kennenlernen und effizient einsetzen m
 öchten.
LAST-MODIFIED;VALUE=DATE-TIME:20260421T210003Z
LOCATION:Centrum 66\, Hirschengraben 66\, 8001 Zürich\, Raum D
URL:https://www.zhkath.ch/verowa-events/kurs-31-microsoft-word-praxisnah-a
 nwenden
END:VEVENT
BEGIN:VTIMEZONE
TZID:Europe/Zurich
X-LIC-LOCATION:Europe/Zurich
BEGIN:DAYLIGHT
DTSTART;VALUE=DATE-TIME:20260329T030000
TZNAME:CEST
TZOFFSETFROM:+0100
TZOFFSETTO:+0200
END:DAYLIGHT
END:VTIMEZONE
END:VCALENDAR
