BEGIN:VCALENDAR
VERSION:2.0
PRODID:-//Plone.org//NONSGML plone.app.event//EN
X-WR-TIMEZONE:Europe/Zurich
BEGIN:VEVENT
SUMMARY:Kurs 18 - Grundkurs Nähe & Distanz (obligatorisch)
DTSTART;TZID=Europe/Zurich;VALUE=DATE-TIME:20260911T091500
DTEND;TZID=Europe/Zurich;VALUE=DATE-TIME:20260911T154500
DTSTAMP;VALUE=DATE-TIME:20260422T135625Z
UID:b42bc6a34f944e3e88c539bc1a454367@localhost:17090
CATEGORIES:Missbrauch,Personalförderung,Kurs
CONTACT:Tobias Kucera\, kurse@zhkath.ch
CREATED;VALUE=DATE-TIME:20260208T220013Z
DESCRIPTION:Zielgruppe: Mitarbeitende der Katholischen Kirche im Kanton Z
 ürich
LAST-MODIFIED;VALUE=DATE-TIME:20260421T210005Z
LOCATION:Centrum 66\, Hirschengraben 66\, 8001 Zürich\, Saal
URL:https://www.zhkath.ch/verowa-events/kurs-18-grundkurs-naehe-distanz-ob
 ligatorisch-3
END:VEVENT
BEGIN:VTIMEZONE
TZID:Europe/Zurich
X-LIC-LOCATION:Europe/Zurich
BEGIN:DAYLIGHT
DTSTART;VALUE=DATE-TIME:20260329T030000
TZNAME:CEST
TZOFFSETFROM:+0100
TZOFFSETTO:+0200
END:DAYLIGHT
END:VTIMEZONE
END:VCALENDAR
