BEGIN:VCALENDAR
VERSION:2.0
PRODID:-//Plone.org//NONSGML plone.app.event//EN
X-WR-TIMEZONE:Europe/Zurich
BEGIN:VEVENT
SUMMARY:«Wie eine Träne im Ozean»
DTSTART;TZID=Europe/Zurich;VALUE=DATE-TIME:20240502T193000
DTEND;TZID=Europe/Zurich;VALUE=DATE-TIME:20240502T210000
DTSTAMP;VALUE=DATE-TIME:20260420T080201Z
UID:4bf1a7e45c1c4255828669795a907b1e@localhost:17090
CONTACT:https://www.paulusakademie.ch/programm/?eid=36299&event-title=Wie+
 eine+Tr%C3%A4ne+im+Ozean+%E2%80%93+02.05.2024
CREATED;VALUE=DATE-TIME:20240429T151122Z
DESCRIPTION:Der Romancier und Essayist Manès Sperber gehört zu den gross
 en europäischen und jüdischen Schriftstellern. Die dreibändige Neuausga
 be seines Werks wird Anfang Mai 2024 erhältlich sein. Buchvernissage und 
 Gespräch finden am Donnerstag\, 2. Mai\, in der Paulus Akademie statt.
LAST-MODIFIED;VALUE=DATE-TIME:20250512T115759Z
LOCATION:Paulus Akademie\, Pfingstweidstrasse 28\, 8005 Zürich
URL:https://www.zhkath.ch/kirche-aktuell/veranstaltungen/wie-eine-traene-i
 m-ozean
END:VEVENT
BEGIN:VTIMEZONE
TZID:Europe/Zurich
X-LIC-LOCATION:Europe/Zurich
BEGIN:DAYLIGHT
DTSTART;VALUE=DATE-TIME:20240331T030000
TZNAME:CEST
TZOFFSETFROM:+0100
TZOFFSETTO:+0200
END:DAYLIGHT
END:VTIMEZONE
END:VCALENDAR
