BEGIN:VCALENDAR
VERSION:2.0
PRODID:-//Plone.org//NONSGML plone.app.event//EN
X-WR-TIMEZONE:Europe/Zurich
BEGIN:VEVENT
SUMMARY:Werkeinführung in das Oratorium «KATHARINA»
DTSTART;TZID=Europe/Zurich;VALUE=DATE-TIME:20241102T133000
DTEND;TZID=Europe/Zurich;VALUE=DATE-TIME:20241102T150000
DTSTAMP;VALUE=DATE-TIME:20260420T103332Z
UID:8f7187f632db4facb095d4c6dd6e54dd@localhost:17090
CONTACT:https://www.paulusakademie.ch/programm/?eid=37141&event-title=Aufb
 ruch+und+Erneuerung+%E2%80%93+02.11.2024
CREATED;VALUE=DATE-TIME:20241021T123152Z
DESCRIPTION:Aufbruch und Erneuerung: Vortrag und Podium in der Paulus Akad
 emie zur Uraufführung des Oratoriums «KATHARINA» am selben Tag um 17 Uh
 r im Fraumünster.
LAST-MODIFIED;VALUE=DATE-TIME:20250512T115801Z
LOCATION:Paulus Akademie\, Pfingstweidstrasse 28\, 8005 Zürich
URL:https://www.zhkath.ch/kirche-aktuell/veranstaltungen/werkeinfuehrung-i
 n-das-oratorium-katharina
END:VEVENT
BEGIN:VTIMEZONE
TZID:Europe/Zurich
X-LIC-LOCATION:Europe/Zurich
BEGIN:STANDARD
DTSTART;VALUE=DATE-TIME:20241027T020000
TZNAME:CET
TZOFFSETFROM:+0200
TZOFFSETTO:+0100
END:STANDARD
END:VTIMEZONE
END:VCALENDAR
