BEGIN:VCALENDAR
VERSION:2.0
PRODID:-//Plone.org//NONSGML plone.app.event//EN
X-WR-TIMEZONE:Europe/Zurich
BEGIN:VEVENT
SUMMARY:Synode der Katholischen Kirche im Kanton Zürich
DTSTART;TZID=Europe/Zurich;VALUE=DATE-TIME:20221201T081500
DTEND;TZID=Europe/Zurich;VALUE=DATE-TIME:20221201T170000
DTSTAMP;VALUE=DATE-TIME:20260422T121238Z
UID:a6efd1c599b64a0b98687e72898857ff@localhost:17090
CREATED;VALUE=DATE-TIME:20221115T154653Z
DESCRIPTION:Die Synode tagt 2023 das letzte Mal im Zürcher Rathaus. Besuc
 he auf der Tribüne sind möglich.
LAST-MODIFIED;VALUE=DATE-TIME:20250512T115815Z
LOCATION:Rathaus\, Zürich
URL:https://www.zhkath.ch/kirche-aktuell/veranstaltungen/synode-der-kathol
 ischen-kirche-im-kanton-zuerich
END:VEVENT
BEGIN:VTIMEZONE
TZID:Europe/Zurich
X-LIC-LOCATION:Europe/Zurich
BEGIN:STANDARD
DTSTART;VALUE=DATE-TIME:20221030T020000
TZNAME:CET
TZOFFSETFROM:+0200
TZOFFSETTO:+0100
END:STANDARD
END:VTIMEZONE
END:VCALENDAR
