BEGIN:VCALENDAR
VERSION:2.0
PRODID:-//Plone.org//NONSGML plone.app.event//EN
X-WR-TIMEZONE:Europe/Zurich
BEGIN:VEVENT
SUMMARY:Grosse Wasserweihe des Zürichsees
DTSTART;TZID=Europe/Zurich;VALUE=DATE-TIME:20260119T180000
DTSTAMP;VALUE=DATE-TIME:20260419T190631Z
UID:60f099afe234444fb5f06c4f7a0e3ed6@localhost:17090
CONTACT:https://www.orthodoxie-zuerich.ch/aktuell/7831/
CREATED;VALUE=DATE-TIME:20260113T095801Z
DESCRIPTION:Am Hochfest der Taufe Christi feiern die beiden russisch-ortho
 doxen Kirchgemeinden Zürichs am Zürichhorn den traditionellen feierliche
 n Gottesdienst der Grossen Wasserweihe.
LAST-MODIFIED;VALUE=DATE-TIME:20260116T084909Z
LOCATION:Zürichhorn
URL:https://www.zhkath.ch/kirche-aktuell/veranstaltungen/grosse-wasserweih
 e-des-zuerichsees
END:VEVENT
BEGIN:VTIMEZONE
TZID:Europe/Zurich
X-LIC-LOCATION:Europe/Zurich
BEGIN:STANDARD
DTSTART;VALUE=DATE-TIME:20251026T020000
TZNAME:CET
TZOFFSETFROM:+0200
TZOFFSETTO:+0100
END:STANDARD
END:VTIMEZONE
END:VCALENDAR
