BEGIN:VCALENDAR
VERSION:2.0
PRODID:-//Plone.org//NONSGML plone.app.event//EN
X-WR-TIMEZONE:Europe/Zurich
BEGIN:VEVENT
SUMMARY:Die lebensbezogene Philosophie des Islams
DTSTART;TZID=Europe/Zurich;VALUE=DATE-TIME:20241103T150000
DTEND;TZID=Europe/Zurich;VALUE=DATE-TIME:20241103T163000
DTSTAMP;VALUE=DATE-TIME:20260422T135800Z
UID:701f2d91dfd2421691ce8021ca4a9c12@localhost:17090
CONTACT:info@imanzentrum.ch\, http://www.imanzentrum.ch
CREATED;VALUE=DATE-TIME:20241030T131152Z
DESCRIPTION:Imam Kaser Alasaad stellt die grundlegenden Prinzipien des Isl
 am und ihre Relevanz für das tägliche Leben vor.
LAST-MODIFIED;VALUE=DATE-TIME:20250512T115801Z
LOCATION:Iman Zentrum\, Juchstrasse 15\, 8604 Volketswil
URL:https://www.zhkath.ch/kirche-aktuell/veranstaltungen/die-lebensbezogen
 e-philosophie-des-islams
END:VEVENT
BEGIN:VTIMEZONE
TZID:Europe/Zurich
X-LIC-LOCATION:Europe/Zurich
BEGIN:STANDARD
DTSTART;VALUE=DATE-TIME:20241027T020000
TZNAME:CET
TZOFFSETFROM:+0200
TZOFFSETTO:+0100
END:STANDARD
END:VTIMEZONE
END:VCALENDAR
