BEGIN:VCALENDAR
VERSION:2.0
PRODID:-//Plone.org//NONSGML plone.app.event//EN
X-WR-TIMEZONE:Europe/Zurich
BEGIN:VEVENT
SUMMARY:Alles nur Märchen?
DTSTART;TZID=Europe/Zurich;VALUE=DATE-TIME:20240425T190000
DTEND;TZID=Europe/Zurich;VALUE=DATE-TIME:20240425T203000
DTSTAMP;VALUE=DATE-TIME:20260420T235607Z
UID:8859e53c90ac46269e8c395e3cd05d08@localhost:17090
CONTACT:https://www.paulusakademie.ch/programm/?eid=36233&event-title=Alle
 s+nur+M%C3%A4rchen%3F+%E2%80%93+25.04.2024
CREATED;VALUE=DATE-TIME:20240409T095023Z
DESCRIPTION:Von der Kraft und Macht des Geschichtenerzählens.
LAST-MODIFIED;VALUE=DATE-TIME:20250512T115759Z
LOCATION:Paulus Akademie\, Pfingstweidstrasse 28\, 8005 Zürich
URL:https://www.zhkath.ch/kirche-aktuell/veranstaltungen/alles-nur-maerche
 n
END:VEVENT
BEGIN:VTIMEZONE
TZID:Europe/Zurich
X-LIC-LOCATION:Europe/Zurich
BEGIN:DAYLIGHT
DTSTART;VALUE=DATE-TIME:20240331T030000
TZNAME:CEST
TZOFFSETFROM:+0100
TZOFFSETTO:+0200
END:DAYLIGHT
END:VTIMEZONE
END:VCALENDAR
